BEGIN:VCALENDAR
VERSION:2.0
PRODID:-//wp-events-plugin.com//7.2.3.1//EN
TZID:Asia/Tokyo
X-WR-TIMEZONE:Asia/Tokyo
BEGIN:VEVENT
UID:55@shingu-shakyo.or.jp
DTSTART;TZID=Asia/Tokyo:20240716T100000
DTEND;TZID=Asia/Tokyo:20240716T120000
DTSTAMP:20240619T143122Z
URL:https://shingu-shakyo.or.jp/events/%e3%81%8a%e5%a4%96%e3%81%a7%e3%81%8
 2%e3%81%9d%e3%81%bc/
SUMMARY:お外であそぼ
DESCRIPTION:お外であそぼ！！\n新聞紙や段ボールを使って
 遊んだり、芝生の上でごろごろしてみたり・・・\nいつ
 来ていつ帰ってOK！ （予約不要）\n０歳から大人まで、
 どなたでもあそびに来てください。\n\n 	日　時：７月
 １６日（火）　午前１０時～正午\n 	場　所：人丸公園\
 n 	主　催：新宮外あそびの会\n
END:VEVENT
BEGIN:VTIMEZONE
TZID:Asia/Tokyo
X-LIC-LOCATION:Asia/Tokyo
BEGIN:STANDARD
DTSTART:20230717T100000
TZOFFSETFROM:+0900
TZOFFSETTO:+0900
TZNAME:JST
END:STANDARD
END:VTIMEZONE
END:VCALENDAR