BEGIN:VCALENDAR
VERSION:2.0
PRODID:-//wp-events-plugin.com//7.2.3.1//EN
TZID:Asia/Tokyo
X-WR-TIMEZONE:Asia/Tokyo
BEGIN:VEVENT
UID:907@shingu-shakyo.or.jp
DTSTART;TZID=Asia/Tokyo:20260708T113000
DTEND;TZID=Asia/Tokyo:20260708T140000
DTSTAMP:20260323T065253Z
URL:https://shingu-shakyo.or.jp/events/%e3%81%99%e3%81%84%e3%81%99%e3%81%8
 4%e3%82%af%e3%83%a9%e3%83%96%ef%bc%88%e3%81%99%e3%81%84%e3%81%99%e3%81%84%
 e3%83%95%e3%82%a1%e3%83%9f%e3%83%aa%e3%83%bc%ef%bc%89-2/
SUMMARY:すいすいクラブ（すいすいファミリー）
DESCRIPTION:軽食を食べながら、食と健康について一緒に語
 り合いましょう。（参加費200円、限定３０食）
LOCATION:新宮町福祉センター\, \, 
X-APPLE-STRUCTURED-LOCATION;VALUE=URI;X-ADDRESS=\, ;X-APPLE-RADIUS=100;X-TI
 TLE=新宮町福祉センター:geo:0,0
END:VEVENT
BEGIN:VTIMEZONE
TZID:Asia/Tokyo
X-LIC-LOCATION:Asia/Tokyo
BEGIN:STANDARD
DTSTART:20250708T113000
TZOFFSETFROM:+0900
TZOFFSETTO:+0900
TZNAME:JST
END:STANDARD
END:VTIMEZONE
END:VCALENDAR