BEGIN:VCALENDAR
VERSION:2.0
PRODID:-//wp-events-plugin.com//7.2.3.1//EN
TZID:Asia/Tokyo
X-WR-TIMEZONE:Asia/Tokyo
BEGIN:VEVENT
UID:48@shingu-shakyo.or.jp
DTSTART;TZID=Asia/Tokyo:20240703T130000
DTEND;TZID=Asia/Tokyo:20240703T150000
DTSTAMP:20240619T142450Z
URL:https://shingu-shakyo.or.jp/events/%e3%81%99%e3%81%84%e3%81%99%e3%81%8
 4%e3%82%af%e3%83%a9%e3%83%96-2024-06-26/
SUMMARY:すいすいクラブ（バルーンアート）
DESCRIPTION:[pdf-embedder url="https://shingu-shakyo.or.jp/home2024/wp-cont
 ent/uploads/2024/05/suisui-club-R6.pdf"]
END:VEVENT
BEGIN:VTIMEZONE
TZID:Asia/Tokyo
X-LIC-LOCATION:Asia/Tokyo
BEGIN:STANDARD
DTSTART:20230704T130000
TZOFFSETFROM:+0900
TZOFFSETTO:+0900
TZNAME:JST
END:STANDARD
END:VTIMEZONE
END:VCALENDAR