BEGIN:VCALENDAR
VERSION:2.0
PRODID:-//wp-events-plugin.com//7.2.3.1//EN
TZID:Asia/Tokyo
X-WR-TIMEZONE:Asia/Tokyo
BEGIN:VEVENT
UID:59@shingu-shakyo.or.jp
DTSTART;TZID=Asia/Tokyo:20240725T100000
DTEND;TZID=Asia/Tokyo:20240725T113000
DTSTAMP:20240621T074614Z
URL:https://shingu-shakyo.or.jp/events/%e3%82%8f%e3%81%8f%e3%82%8f%e3%81%8
 f%e5%b7%a5%e4%bd%9c%e6%95%99%e5%ae%a4%ef%bc%88%e3%83%95%e3%82%a1%e3%83%9f%
 e3%82%b5%e3%83%9d%e4%ba%a4%e6%b5%81%e4%bc%9a%ef%bc%89/
SUMMARY:わくわく工作教室（ファミサポ交流会）
DESCRIPTION:ファミサポ会員に登録している人を対象に、フ
 ァミサポ交流会を実施します。\n今回は、お家でも真似
 できる簡単な工作について、楽しく遊びながら学びま
 す！ぜひ、ご参加ください。\n\n\n\n日　時\n令和６年７
 月２５日（木）\n１０時～１１時　工作教室\n１１時～
 １１時３０分　交流会\n\n\n場　所\n福祉センター３階　
 大広間\n\n\n定　員\n２０人\n\n\n材料費\n２００円\n\n\n講
 　師\n福岡わくわく体験クラブ\n\n\n持ってくるもの\n筆
 記用具、はさみ、カラー油性ペン、作品の持ち帰り袋\n
 \n\n申込方法\n電話、FAX、メール、下記申込フォーム\n\n\
 n申込締切\n令和６年７月１８日（木）\n\n\n\n◆ファミサ
 ポ交流会　申込フォーム◆
END:VEVENT
BEGIN:VTIMEZONE
TZID:Asia/Tokyo
X-LIC-LOCATION:Asia/Tokyo
BEGIN:STANDARD
DTSTART:20230726T100000
TZOFFSETFROM:+0900
TZOFFSETTO:+0900
TZNAME:JST
END:STANDARD
END:VTIMEZONE
END:VCALENDAR