BEGIN:VCALENDAR
VERSION:2.0
PRODID:-//wp-events-plugin.com//7.2.3.1//EN
TZID:Asia/Tokyo
X-WR-TIMEZONE:Asia/Tokyo
BEGIN:VEVENT
UID:230@shingu-shakyo.or.jp
DTSTART;TZID=Asia/Tokyo;VALUE=DATE:20241121
DTEND;TZID=Asia/Tokyo;VALUE=DATE:20241124
DTSTAMP:20241113T022010Z
URL:https://shingu-shakyo.or.jp/events/%e4%b8%8d%e7%99%bb%e6%a0%a1%e3%83%b
 b%e3%81%b2%e3%81%8d%e3%81%93%e3%82%82%e3%82%8a%e3%80%80%e3%81%bb%e3%81%a3%
 e3%81%93%e3%82%8a%e3%81%8a%e3%81%af%e3%81%aa%e3%81%97%e4%bc%9a%e3%80%80%e3
 %83%ac%e3%82%af/
SUMMARY:不登校・ひきこもり　ほっこりおはなし会　レク
 リエーションのご案内
DESCRIPTION:ほっこりレクリエーション（予約不要、参加無
 料）\nほっこりおはなし会では、畑を使った活動をして
 います。今回はたまねぎの植え付け作業を行います。\n
 一緒にやってみませんか。時間中はいつでもどうぞ♪\n
 内　容：たまねぎの植え付け作業\n日　時：①１１月２
 １日（木）１３：００～１６：３０\n　　　　②１１月
 ２２日（金）　９：００～１１：３０　　１３：００
 ～１６：３０\n　　　　③１１月２３日（土）　９：０
 ０～１１：３０\n場　所：湊区内の畑（地図参照）[pdf-e
 mbedder url="https://shingu-shakyo.or.jp/home2024/wp-content/uploads/2024/
 11/地図HP用.pdf" title="地図(HP用)"]\n集合は ”現地” もし
 くは ”福祉センター” （福祉センターの場合は、各日
 にち開始の１５分前に集合）\n準　備：ゴム手袋、汚れ
 てもいい服装、着替え、水分\n対　象：不登校・ひきこ
 もりに悩む本人や家族、関心のある人\n問合せ：新宮町
 社会福祉協議会（092-963-0921）\n&nbsp\;\n&nbsp\;\n&nbsp\;
END:VEVENT
BEGIN:VTIMEZONE
TZID:Asia/Tokyo
X-LIC-LOCATION:Asia/Tokyo
BEGIN:STANDARD
DTSTART:20231122T000000
TZOFFSETFROM:+0900
TZOFFSETTO:+0900
TZNAME:JST
END:STANDARD
END:VTIMEZONE
END:VCALENDAR